BEGIN:VCALENDAR
VERSION:2.0
PRODID:-//Tukios.com/
BEGIN:VEVENT
UID:d14207db-3b1d-465c-9df9-ed04cfbfd32f@www.terraceparkfuneralhome.com
DTSTAMP:20260422T014027Z
DTSTART:20260427T150000Z
DTEND:20260427T160000Z
SUMMARY:Visitation
DESCRIPTION:
URL:https://www.terraceparkfuneralhome.com/obituaries/donna-hudlemeyer
LOCATION: 801 NW 108th St  Kansas City MO 64155
GEO:39.2884144;-94.5869088
END:VEVENT
END:VCALENDAR