BEGIN:VCALENDAR
VERSION:2.0
PRODID:-//Tukios.com/
BEGIN:VEVENT
UID:ee081d7c-b2f3-4412-9e3b-b336726c630c@www.terraceparkfuneralhome.com
DTSTAMP:20260422T013752Z
DTSTART:20260427T160000Z
DTEND:20260427T164500Z
SUMMARY:Funeral Service
DESCRIPTION:
URL:https://www.terraceparkfuneralhome.com/obituaries/donna-hudlemeyer
LOCATION: 801 NW 108th St  Kansas City MO 64155
GEO:39.2884144;-94.5869088
END:VEVENT
END:VCALENDAR