BEGIN:VCALENDAR
VERSION:2.0
PRODID:-//Tukios.com/
BEGIN:VEVENT
UID:1cee17df-2a39-47b5-8844-9535c2068690@www.terraceparkfuneralhome.com
DTSTAMP:20260422T013916Z
DTSTART:20260427T164500Z
DTEND:20260427T174500Z
SUMMARY:Interment
DESCRIPTION:
URL:https://www.terraceparkfuneralhome.com/obituaries/donna-hudlemeyer
LOCATION: 801 NW 108th St  Kansas City MO 64155
GEO:39.2884144;-94.5869088
END:VEVENT
END:VCALENDAR