BEGIN:VCALENDAR
VERSION:2.0
PRODID:-//Tukios.com/
BEGIN:VEVENT
UID:e9d12e83-8e54-443a-80c9-1c739a04958b@www.terraceparkfuneralhome.com
DTSTAMP:20260422T085004Z
DTSTART:20260425T150000Z
DTEND:20260425T160000Z
SUMMARY:Visitation
DESCRIPTION:
URL:https://www.terraceparkfuneralhome.com/obituaries/jacques-jules
LOCATION: 801 NW 108th St  Kansas City MO 64155
GEO:39.2884144;-94.5869088
END:VEVENT
END:VCALENDAR