BEGIN:VCALENDAR
VERSION:2.0
PRODID:-//Tukios.com/
BEGIN:VEVENT
UID:0721cf77-7a19-4201-ae06-b6659e709405@www.terraceparkfuneralhome.com
DTSTAMP:20260425T020311Z
DTSTART:20260427T220000Z
DTEND:20260428T010000Z
SUMMARY:Visitation
DESCRIPTION:
URL:https://www.terraceparkfuneralhome.com/obituaries/robert-coffey
LOCATION: 611 NE 69th St  Kansas City MO 64118
GEO:39.2192366;-94.5718733
END:VEVENT
END:VCALENDAR