BEGIN:VCALENDAR
VERSION:2.0
PRODID:-//Tukios.com/
BEGIN:VEVENT
UID:abbdbc66-a457-4bb8-9cd7-3bf104d2c7a0@www.terraceparkfuneralhome.com
DTSTAMP:20260425T020311Z
DTSTART:20260428T150000Z
DTEND:20260428T154500Z
SUMMARY:Funeral Service
DESCRIPTION:
URL:https://www.terraceparkfuneralhome.com/obituaries/robert-coffey
LOCATION: 611 NE 69th St  Kansas City MO 64118
GEO:39.2192366;-94.5718733
END:VEVENT
END:VCALENDAR