BEGIN:VCALENDAR
VERSION:2.0
PRODID:-//Tukios.com/
BEGIN:VEVENT
UID:510e3dc7-7bb1-490d-99db-071828a44540@www.terraceparkfuneralhome.com
DTSTAMP:20260425T020122Z
DTSTART:20260428T161500Z
DTEND:20260428T171500Z
SUMMARY:Interment
DESCRIPTION:
URL:https://www.terraceparkfuneralhome.com/obituaries/robert-coffey
LOCATION: 801 NW 108th St  Kansas City MO 64155
GEO:39.2884144;-94.5869088
END:VEVENT
END:VCALENDAR